BEGIN:VCALENDAR
VERSION:2.0
PRODID:-//Plone.org//NONSGML plone.app.event//EN
X-WR-TIMEZONE:US/Eastern
BEGIN:VEVENT
SUMMARY:Winter Reading Program
DTSTART;TZID=US/Eastern:20251201T100000
DTEND;TZID=US/Eastern:20251201T180000
DTSTAMP:20260424T170715Z
UID:2504c32039784b25a0665bc0d2598bb9@saas_stack_varnish:6080
CONTACT:989-288-6486\, vernonlibrary@gmail.com
CREATED:20251124T154549Z
DESCRIPTION:Register for our Winter Reading Program today!  Open to all ag
 es!\nRuns from Dec. 1st through January 31st!
LAST-MODIFIED:20251124T154619Z
LOCATION:Vernon District Public Library
URL:https://www.vernon.michlibrary.org/news-events/lib-cal/winter-reading-
 program
END:VEVENT
BEGIN:VTIMEZONE
TZID:US/Eastern
X-LIC-LOCATION:US/Eastern
BEGIN:STANDARD
DTSTART:20251102T010000
TZNAME:EST
TZOFFSETFROM:-0400
TZOFFSETTO:-0500
END:STANDARD
END:VTIMEZONE
END:VCALENDAR
