BEGIN:VCALENDAR
VERSION:2.0
PRODID:-//Plone.org//NONSGML plone.app.event//EN
X-WR-TIMEZONE:US/Eastern
BEGIN:VEVENT
SUMMARY:Gingerbread Contest Drop Off
DTSTART;TZID=US/Eastern:20251212T100000
DTEND;TZID=US/Eastern:20251212T180000
DTSTAMP:20260424T171618Z
UID:3321250cbc084a4598f4a2a77a44316d@saas_stack_varnish:6080
CONTACT:989-288-6486\, vernonlibrary@gmail.com
CREATED:20251121T221520Z
LAST-MODIFIED:20251124T152715Z
LOCATION:Vernon District Public Library
URL:https://www.vernon.michlibrary.org/news-events/lib-cal/gingerbread-con
 test-drop-off/2025-12-12
END:VEVENT
BEGIN:VTIMEZONE
TZID:US/Eastern
X-LIC-LOCATION:US/Eastern
BEGIN:STANDARD
DTSTART:20251102T010000
TZNAME:EST
TZOFFSETFROM:-0400
TZOFFSETTO:-0500
END:STANDARD
END:VTIMEZONE
END:VCALENDAR
