BEGIN:VCALENDAR
VERSION:2.0
PRODID:-//Plone.org//NONSGML plone.app.event//EN
X-WR-TIMEZONE:US/Eastern
BEGIN:VEVENT
SUMMARY:End Celebration & Prize Giveaway
DTSTART;TZID=US/Eastern:20250801T150000
DTEND;TZID=US/Eastern:20250801T180000
DTSTAMP:20260424T185459Z
UID:1eb5f461745c45b0951f14a57d93e754@saas_stack_varnish:6080
CONTACT:989-288-6486
CREATED:20250606T161406Z
DESCRIPTION:Celebrate your Summer Reading Achievements with us!
LAST-MODIFIED:20250606T161451Z
LOCATION:Vernon District Public Library
URL:https://www.vernon.michlibrary.org/news-events/lib-cal/end-celebration
 -prize-giveaway
END:VEVENT
BEGIN:VTIMEZONE
TZID:US/Eastern
X-LIC-LOCATION:US/Eastern
BEGIN:DAYLIGHT
DTSTART:20250309T030000
TZNAME:EDT
TZOFFSETFROM:-0500
TZOFFSETTO:-0400
END:DAYLIGHT
END:VTIMEZONE
END:VCALENDAR
