BEGIN:VCALENDAR
VERSION:2.0
PRODID:-//Plone.org//NONSGML plone.app.event//EN
X-WR-TIMEZONE:US/Eastern
BEGIN:VEVENT
SUMMARY:Drop-in Tea Tasting
DTSTART;TZID=US/Eastern:20260120T130000
DTEND;TZID=US/Eastern:20260120T160000
DTSTAMP:20260424T171133Z
UID:7e4b1684142a4013be1caa83d71bc2be@saas_stack_varnish:6080
ATTENDEE;CN="Celebrate National Tea Month with us!";ROLE=REQ-PARTICIPANT:C
 elebrate National Tea Month with us!
CONTACT:989-288-6486\, vernonlibrary@gmail.com
CREATED:20251219T225905Z
LAST-MODIFIED:20251219T225912Z
LOCATION:Vernon District Public Library
URL:https://www.vernon.michlibrary.org/news-events/lib-cal/drop-in-tea-tas
 ting
END:VEVENT
BEGIN:VTIMEZONE
TZID:US/Eastern
X-LIC-LOCATION:US/Eastern
BEGIN:STANDARD
DTSTART:20251102T010000
TZNAME:EST
TZOFFSETFROM:-0400
TZOFFSETTO:-0500
END:STANDARD
END:VTIMEZONE
END:VCALENDAR
