BEGIN:VCALENDAR
VERSION:2.0
PRODID:-//Plone.org//NONSGML plone.app.event//EN
X-WR-TIMEZONE:US/Eastern
BEGIN:VEVENT
SUMMARY:Cub Club Storytime
DTSTART;TZID=US/Eastern:20260102T100000
DTEND;TZID=US/Eastern:20260102T110000
DTSTAMP:20260424T171310Z
UID:1ddf268e8b3743808a85a22f93d1b3ff@saas_stack_varnish:6080
RRULE:FREQ=WEEKLY;UNTIL=20260131T000000;BYDAY=FR
EXDATE;TZID=US/Eastern:20260109T000000,20260123T000000,20260206T000000,202
 60213T000000
CONTACT:989-288-6486\, vernonlibrary@gmail.com
CREATED:20260105T154532Z
LAST-MODIFIED:20260105T154705Z
LOCATION:Vernon District Public Library
URL:https://www.vernon.michlibrary.org/news-events/lib-cal/cub-club-storyt
 ime-1
END:VEVENT
BEGIN:VTIMEZONE
TZID:US/Eastern
X-LIC-LOCATION:US/Eastern
BEGIN:STANDARD
DTSTART:20251102T010000
TZNAME:EST
TZOFFSETFROM:-0400
TZOFFSETTO:-0500
END:STANDARD
END:VTIMEZONE
END:VCALENDAR
