BEGIN:VCALENDAR
VERSION:2.0
PRODID:-//Plone.org//NONSGML plone.app.event//EN
X-WR-TIMEZONE:US/Eastern
BEGIN:VEVENT
SUMMARY:Cub Club Storytime
DTSTART;TZID=US/Eastern:20260130T100000
DTEND;TZID=US/Eastern:20260130T110000
DTSTAMP:20260424T154456Z
UID:1ddf268e8b3743808a85a22f93d1b3ff@saas_stack_varnish:6080
CONTACT:989-288-6486\, vernonlibrary@gmail.com
CREATED:20260105T154532Z
LAST-MODIFIED:20260105T154705Z
LOCATION:Vernon District Public Library
URL:https://www.vernon.michlibrary.org/news-events/lib-cal/cub-club-storyt
 ime-1/2026-01-30
END:VEVENT
BEGIN:VTIMEZONE
TZID:US/Eastern
X-LIC-LOCATION:US/Eastern
BEGIN:STANDARD
DTSTART:20251102T010000
TZNAME:EST
TZOFFSETFROM:-0400
TZOFFSETTO:-0500
END:STANDARD
END:VTIMEZONE
END:VCALENDAR
