BEGIN:VCALENDAR
VERSION:2.0
PRODID:-//Plone.org//NONSGML plone.app.event//EN
X-WR-TIMEZONE:US/Eastern
BEGIN:VEVENT
SUMMARY:Friends of the Library
DTSTART;TZID=US/Eastern:20250805T180000
DTEND;TZID=US/Eastern:20250805T190000
DTSTAMP:20260424T185638Z
UID:3f081f5feb114bdfba64b80f1be0c4f1@saas_stack_varnish:6080
CONTACT:989-288-6486\, vernonlibrary@gmail.com
CREATED:20250606T154049Z
DESCRIPTION:The library exists because of YOU!
LAST-MODIFIED:20250731T181836Z
LOCATION:Vernon District Public Library
URL:https://www.vernon.michlibrary.org/news-events/lib-cal/copy_of_friends
 -of-the-library
END:VEVENT
BEGIN:VTIMEZONE
TZID:US/Eastern
X-LIC-LOCATION:US/Eastern
BEGIN:DAYLIGHT
DTSTART:20250309T030000
TZNAME:EDT
TZOFFSETFROM:-0500
TZOFFSETTO:-0400
END:DAYLIGHT
END:VTIMEZONE
END:VCALENDAR
