BEGIN:VCALENDAR
VERSION:2.0
PRODID:-//Plone.org//NONSGML plone.app.event//EN
X-WR-TIMEZONE:US/Eastern
BEGIN:VEVENT
SUMMARY:Open Sew
DTSTART;TZID=US/Eastern:20250802T090000
DTEND;TZID=US/Eastern:20250802T200000
DTSTAMP:20260424T185011Z
UID:21e574f6e9964ea4adb30a423c956c84@saas_stack_varnish:6080
CREATED:20241007T164057Z
DESCRIPTION:Want to work on your projects in a friendly\, inviting environ
 ment?!
LAST-MODIFIED:20250725T203148Z
LOCATION:Vernon District Public Library
URL:https://www.vernon.michlibrary.org/news-events/lib-cal/copy9_of_open-s
 ew-1
END:VEVENT
BEGIN:VTIMEZONE
TZID:US/Eastern
X-LIC-LOCATION:US/Eastern
BEGIN:DAYLIGHT
DTSTART:20250309T030000
TZNAME:EDT
TZOFFSETFROM:-0500
TZOFFSETTO:-0400
END:DAYLIGHT
END:VTIMEZONE
END:VCALENDAR
