BEGIN:VCALENDAR
VERSION:2.0
PRODID:-//Plone.org//NONSGML plone.app.event//EN
X-WR-TIMEZONE:US/Eastern
BEGIN:VEVENT
SUMMARY:Tot Lot Storytime
DTSTART;TZID=US/Eastern:20251121T103000
DTEND;TZID=US/Eastern:20251121T110000
DTSTAMP:20260424T171541Z
UID:03561614b3954d85952f28a9ae1ad424@saas_stack_varnish:6080
CONTACT:989-288-6486\, vernonlibrary@gmail.com
CREATED:20250930T185058Z
DESCRIPTION:Tot Lot Storytime is meant for children ages 0-5.
LAST-MODIFIED:20251103T150816Z
LOCATION:Vernon District Public Library
URL:https://www.vernon.michlibrary.org/news-events/lib-cal/copy2_of_tot-lo
 t-storytime
END:VEVENT
BEGIN:VTIMEZONE
TZID:US/Eastern
X-LIC-LOCATION:US/Eastern
BEGIN:STANDARD
DTSTART:20251102T010000
TZNAME:EST
TZOFFSETFROM:-0400
TZOFFSETTO:-0500
END:STANDARD
END:VTIMEZONE
END:VCALENDAR
