BEGIN:VCALENDAR
VERSION:2.0
PRODID:-//Plone.org//NONSGML plone.app.event//EN
X-WR-TIMEZONE:US/Eastern
BEGIN:VEVENT
SUMMARY:Open Sew
DTSTART;TZID=US/Eastern:20260524T090000
DTEND;TZID=US/Eastern:20260524T190000
DTSTAMP:20260424T114730Z
UID:ca92114c4c2949a3b36c55777c19bfcf@saas_stack_varnish:6080
CREATED:20260320T160011Z
LAST-MODIFIED:20260423T203116Z
LOCATION:Vernon District Public Library Community Room
URL:https://www.vernon.michlibrary.org/news-events/lib-cal/copy2_of_open-s
 ew-3
END:VEVENT
BEGIN:VTIMEZONE
TZID:US/Eastern
X-LIC-LOCATION:US/Eastern
BEGIN:DAYLIGHT
DTSTART:20260308T030000
TZNAME:EDT
TZOFFSETFROM:-0500
TZOFFSETTO:-0400
END:DAYLIGHT
END:VTIMEZONE
END:VCALENDAR
