BEGIN:VCALENDAR
VERSION:2.0
PRODID:-//Plone.org//NONSGML plone.app.event//EN
X-WR-TIMEZONE:US/Eastern
BEGIN:VEVENT
SUMMARY:Open Sew
DTSTART;TZID=US/Eastern:20260221T090000
DTEND;TZID=US/Eastern:20260221T200000
DTSTAMP:20260424T155133Z
UID:92978b84a92140cd8459bda7f01b2cd0@saas_stack_varnish:6080
CREATED:20241007T164057Z
DESCRIPTION:Want to work on your projects in a friendly\, inviting environ
 ment?!
LAST-MODIFIED:20260109T223922Z
LOCATION:Vernon District Public Library
URL:https://www.vernon.michlibrary.org/news-events/lib-cal/copy18_of_open-
 sew-1
END:VEVENT
BEGIN:VTIMEZONE
TZID:US/Eastern
X-LIC-LOCATION:US/Eastern
BEGIN:STANDARD
DTSTART:20251102T010000
TZNAME:EST
TZOFFSETFROM:-0400
TZOFFSETTO:-0500
END:STANDARD
END:VTIMEZONE
END:VCALENDAR
