BEGIN:VCALENDAR
VERSION:2.0
PRODID:-//Plone.org//NONSGML plone.app.event//EN
X-WR-TIMEZONE:US/Eastern
BEGIN:VEVENT
SUMMARY:Open Sew
DTSTART;TZID=US/Eastern:20260131T090000
DTEND;TZID=US/Eastern:20260131T200000
DTSTAMP:20260424T154004Z
UID:9eb82347f4eb4f92abfc2865b8ab3580@saas_stack_varnish:6080
CREATED:20241007T164057Z
DESCRIPTION:Want to work on your projects in a friendly\, inviting environ
 ment?!
LAST-MODIFIED:20251024T212151Z
LOCATION:Vernon District Public Library
URL:https://www.vernon.michlibrary.org/news-events/lib-cal/copy16_of_open-
 sew-1
END:VEVENT
BEGIN:VTIMEZONE
TZID:US/Eastern
X-LIC-LOCATION:US/Eastern
BEGIN:STANDARD
DTSTART:20251102T010000
TZNAME:EST
TZOFFSETFROM:-0400
TZOFFSETTO:-0500
END:STANDARD
END:VTIMEZONE
END:VCALENDAR
