BEGIN:VCALENDAR
VERSION:2.0
PRODID:-//Plone.org//NONSGML plone.app.event//EN
X-WR-TIMEZONE:US/Eastern
BEGIN:VEVENT
SUMMARY:Coloring Contest
DTSTART;TZID=US/Eastern:20251209T100000
DTEND;TZID=US/Eastern:20251209T180000
DTSTAMP:20260424T171541Z
UID:1560260aeb8e44c18972131d9a6746c0@saas_stack_varnish:6080
CONTACT:989-288-6486\, vernonlibrary@gmail.com
CREATED:20251121T222211Z
DESCRIPTION:For ages 0-12 years old!  See link below for a PDF of the colo
 ring form and registration. (should be printed on legal paper)
LAST-MODIFIED:20251201T162813Z
LOCATION:Vernon District Public Library
URL:https://www.vernon.michlibrary.org/news-events/lib-cal/coloring-contes
 t/2025-12-09
END:VEVENT
BEGIN:VTIMEZONE
TZID:US/Eastern
X-LIC-LOCATION:US/Eastern
BEGIN:STANDARD
DTSTART:20251102T010000
TZNAME:EST
TZOFFSETFROM:-0400
TZOFFSETTO:-0500
END:STANDARD
END:VTIMEZONE
END:VCALENDAR
