BEGIN:VCALENDAR
VERSION:2.0
PRODID:-//Plone.org//NONSGML plone.app.event//EN
X-WR-TIMEZONE:US/Eastern
BEGIN:VEVENT
SUMMARY:Coloring Contest Deadline
DTSTART;TZID=US/Eastern:20250731T100000
DTEND;TZID=US/Eastern:20250731T100000
DTSTAMP:20260424T184821Z
UID:320ad81e6b614315b6ff159459634921@saas_stack_varnish:6080
CONTACT:989-288-6486
CREATED:20250606T161827Z
DESCRIPTION:Turn in your entries by 6pm!
LAST-MODIFIED:20250606T161836Z
LOCATION:Vernon District Public Library
URL:https://www.vernon.michlibrary.org/news-events/lib-cal/coloring-contes
 t-deadline
END:VEVENT
BEGIN:VTIMEZONE
TZID:US/Eastern
X-LIC-LOCATION:US/Eastern
BEGIN:DAYLIGHT
DTSTART:20250309T030000
TZNAME:EDT
TZOFFSETFROM:-0500
TZOFFSETTO:-0400
END:DAYLIGHT
END:VTIMEZONE
END:VCALENDAR
