BEGIN:VCALENDAR
VERSION:2.0
PRODID:-//Plone.org//NONSGML plone.app.event//EN
X-WR-TIMEZONE:US/Eastern
BEGIN:VEVENT
SUMMARY:CLOSED
DTSTART;VALUE=DATE:20260119
DTEND;VALUE=DATE:20260120
DTSTAMP:20260424T171053Z
UID:84363c7ce18d439a934ff533b5f5d925@saas_stack_varnish:6080
CREATED:20250926T202425Z
DESCRIPTION:We will be closed in observance of Martin Luther King Jr. Day.
LAST-MODIFIED:20250926T202433Z
URL:https://www.vernon.michlibrary.org/news-events/lib-cal/closed-46
END:VEVENT
END:VCALENDAR
