BEGIN:VCALENDAR
VERSION:2.0
PRODID:-//Plone.org//NONSGML plone.app.event//EN
X-WR-TIMEZONE:US/Eastern
BEGIN:VEVENT
SUMMARY:CLOSED
DTSTART;VALUE=DATE:20251231
DTEND;VALUE=DATE:20260102
DTSTAMP:20260424T170645Z
UID:6603e5959cd04f5fbc12c1012bcd8df8@saas_stack_varnish:6080
CREATED:20240916T203414Z
DESCRIPTION:Closed in observance of the New Year
LAST-MODIFIED:20240916T203420Z
URL:https://www.vernon.michlibrary.org/news-events/lib-cal/closed-45
END:VEVENT
END:VCALENDAR
