BEGIN:VCALENDAR
VERSION:2.0
PRODID:-//Plone.org//NONSGML plone.app.event//EN
X-WR-TIMEZONE:US/Eastern
BEGIN:VEVENT
SUMMARY:CLOSED
DTSTART;VALUE=DATE:20251126
DTEND;VALUE=DATE:20251130
DTSTAMP:20260424T171053Z
UID:987b72d9bc6c48ea97908aa2180c2dc6@saas_stack_varnish:6080
CREATED:20240916T203150Z
DESCRIPTION:Closed in observance of Thanksgiving.
LAST-MODIFIED:20240916T203157Z
URL:https://www.vernon.michlibrary.org/news-events/lib-cal/closed-43
END:VEVENT
END:VCALENDAR
