BEGIN:VCALENDAR
VERSION:2.0
PRODID:-//Plone.org//NONSGML plone.app.event//EN
X-WR-TIMEZONE:US/Eastern
BEGIN:VEVENT
SUMMARY:Christmas Book Sale
DTSTART;TZID=US/Eastern:20221201T100000
DTEND;TZID=US/Eastern:20221230T180000
DTSTAMP:20260421T015403Z
UID:73e0a104d0874a4090af6fd01704e482@saas_stack_varnish:6080
CONTACT:989-288-6486\, vernonlibrary@gmail.com
CREATED:20221118T183606Z
DESCRIPTION:All items in the sale are for sale by donation. Includes items
  not included in our year-round sale! Sale items located at the front of t
 he library and in the community room.\n\nProceeds fund community programmi
 ng and literacy initiatives.
LAST-MODIFIED:20221121T190842Z
LOCATION:Vernon District Public Library
URL:https://www.vernon.michlibrary.org/news-events/lib-cal/christmas-book-
 sale
END:VEVENT
BEGIN:VTIMEZONE
TZID:US/Eastern
X-LIC-LOCATION:US/Eastern
BEGIN:STANDARD
DTSTART:20221106T010000
TZNAME:EST
TZOFFSETFROM:-0400
TZOFFSETTO:-0500
END:STANDARD
END:VTIMEZONE
END:VCALENDAR
