BEGIN:VCALENDAR
VERSION:2.0
PRODID:-//Plone.org//NONSGML plone.app.event//EN
X-WR-TIMEZONE:US/Eastern
BEGIN:VEVENT
SUMMARY:Begin taking VITA Tax Assistance Appointments
DTSTART;TZID=US/Eastern:20260112T100000
DTEND;TZID=US/Eastern:20260112T180000
DTSTAMP:20260424T171705Z
UID:4a1e8314505a4570a1b290c08be3362f@saas_stack_varnish:6080
CONTACT:989-288-6486
CREATED:20260105T155101Z
LAST-MODIFIED:20260105T155114Z
LOCATION:Vernon District Public Library
URL:https://www.vernon.michlibrary.org/news-events/lib-cal/begin-taking-vi
 ta-tax-assistance-appointments
END:VEVENT
BEGIN:VTIMEZONE
TZID:US/Eastern
X-LIC-LOCATION:US/Eastern
BEGIN:STANDARD
DTSTART:20251102T010000
TZNAME:EST
TZOFFSETFROM:-0400
TZOFFSETTO:-0500
END:STANDARD
END:VTIMEZONE
END:VCALENDAR
